BEGIN:VCALENDAR
VERSION:2.0
PRODID:-//Plone.org//NONSGML plone.app.event//EN
X-WR-TIMEZONE:Europe/Madrid
BEGIN:VEVENT
SUMMARY:Sortida Nocturna en BTT
DTSTART;TZID=Europe/Madrid;VALUE=DATE-TIME:20170707T200000
DTEND;TZID=Europe/Madrid;VALUE=DATE-TIME:20170707T210000
DTSTAMP;VALUE=DATE-TIME:20260425T021818Z
UID:76b0c7d7230227f330e35eb2672d90e6
CREATED;VALUE=DATE-TIME:20170707T000000Z
CATEGORIES:Esports
LOCATION:Plaça Pau Casals
URL:https://www.santsadurni.cat/document.php?id=9433
END:VEVENT
END:VCALENDAR