BEGIN:VCALENDAR
VERSION:2.0
PRODID:-//Plone.org//NONSGML plone.app.event//EN
X-WR-TIMEZONE:Europe/Madrid
BEGIN:VEVENT
SUMMARY:Sopar de la Lluna
DTSTART;TZID=Europe/Madrid;VALUE=DATE-TIME:20170706T210000
DTEND;TZID=Europe/Madrid;VALUE=DATE-TIME:20170706T220000
DTSTAMP;VALUE=DATE-TIME:20260425T021854Z
UID:5d000c40a04bad6b77b6af5a1c1fac1c
CREATED;VALUE=DATE-TIME:20170706T000000Z
CATEGORIES:Vins i caves,Gastronomia
LOCATION:Mirador de les Caves
ORGANIZER:Cal Blay
COMMENT:Preu: 45
DESCRIPTION:Un multi maridatge per la millor nit de l'estiu
URL:https://www.santsadurni.cat/document.php?id=9435
END:VEVENT
END:VCALENDAR