BEGIN:VCALENDAR
VERSION:2.0
PRODID:-//Plone.org//NONSGML plone.app.event//EN
X-WR-TIMEZONE:Europe/Madrid
BEGIN:VEVENT
SUMMARY:Festa del Barri Vilarnau
DTSTART;TZID=Europe/Madrid;VALUE=DATE-TIME:20170709T000000
DTEND;TZID=Europe/Madrid;VALUE=DATE-TIME:20170709T010000
DTSTAMP;VALUE=DATE-TIME:20260425T022415Z
UID:25820778d125ed663aa93d7ff3468b24
CREATED;VALUE=DATE-TIME:20170707T000000Z
CATEGORIES:Festa
LOCATION:Plaça Germans Segura Viudes
URL:https://www.santsadurni.cat/document.php?id=9442
END:VEVENT
END:VCALENDAR