BEGIN:VCALENDAR
VERSION:2.0
PRODID:-//Plone.org//NONSGML plone.app.event//EN
X-WR-TIMEZONE:Europe/Madrid
BEGIN:VEVENT
SUMMARY:Visita institucional al Centre Cultural
DTSTART;TZID=Europe/Madrid;VALUE=DATE-TIME:20170722T120000
DTEND;TZID=Europe/Madrid;VALUE=DATE-TIME:20170722T130000
DTSTAMP;VALUE=DATE-TIME:20260424T233717Z
UID:8d6f38e59537924c398dc9a57a37ccb3
CREATED;VALUE=DATE-TIME:20170722T000000Z
LOCATION:Centre Cultural plaça Nova
URL:https://www.santsadurni.cat/document.php?id=9527
END:VEVENT
END:VCALENDAR