BEGIN:VCALENDAR
VERSION:2.0
PRODID:-//Plone.org//NONSGML plone.app.event//EN
X-WR-TIMEZONE:Europe/Madrid
BEGIN:VEVENT
SUMMARY:Storytime a la piscina d'estiu
DTSTART;TZID=Europe/Madrid;VALUE=DATE-TIME:20170719T180000
DTEND;TZID=Europe/Madrid;VALUE=DATE-TIME:20170719T190000
DTSTAMP;VALUE=DATE-TIME:20260424T233701Z
UID:3a67804ba0d8d133405bfd7808c96723
CREATED;VALUE=DATE-TIME:20170719T000000Z
CATEGORIES:Esports,Infantils,Teatre
LOCATION:Zona Esportiva - Ps. Can Ferrer, 2
ORGANIZER:Kids&us i esports
COMMENT:Preu: Segons preus de les diferents entrades a les piscines.
Durada: 1 hora aprox.
URL:https://www.santsadurni.cat/document.php?id=9534
END:VEVENT
END:VCALENDAR