BEGIN:VCALENDAR
VERSION:2.0
PRODID:-//Plone.org//NONSGML plone.app.event//EN
X-WR-TIMEZONE:Europe/Madrid
BEGIN:VEVENT
SUMMARY:Inauguració monument commemoratiu dels donants de sang
DTSTART;TZID=Europe/Madrid;VALUE=DATE-TIME:20170729T120000
DTEND;TZID=Europe/Madrid;VALUE=DATE-TIME:20170729T130000
DTSTAMP;VALUE=DATE-TIME:20260425T031726Z
UID:fc51944590424a35245c83b8303c04bf
CREATED;VALUE=DATE-TIME:20170729T000000Z
LOCATION:CAP Sant Sadurní
URL:https://www.santsadurni.cat/document.php?id=9548
END:VEVENT
END:VCALENDAR