BEGIN:VCALENDAR
VERSION:2.0
PRODID:-//Plone.org//NONSGML plone.app.event//EN
X-WR-TIMEZONE:Europe/Madrid
BEGIN:VEVENT
SUMMARY:Junta de Govern Local
DTSTART;TZID=Europe/Madrid;VALUE=DATE-TIME:20170717T193000
DTEND;TZID=Europe/Madrid;VALUE=DATE-TIME:20170717T203000
DTSTAMP;VALUE=DATE-TIME:20260424T234020Z
UID:da5a4fc1418355b737d2df720b8f8c37
CREATED;VALUE=DATE-TIME:20170717T000000Z
URL:https://www.santsadurni.cat/document.php?id=9552
END:VEVENT
END:VCALENDAR