BEGIN:VCALENDAR
VERSION:2.0
PRODID:-//Plone.org//NONSGML plone.app.event//EN
X-WR-TIMEZONE:Europe/Madrid
BEGIN:VEVENT
SUMMARY:Junta de Govern Local
DTSTART;TZID=Europe/Madrid;VALUE=DATE-TIME:20170728T143000
DTEND;TZID=Europe/Madrid;VALUE=DATE-TIME:20170728T153000
DTSTAMP;VALUE=DATE-TIME:20260425T020547Z
UID:4cd57ae2aae649e27137cb3a7712462e
CREATED;VALUE=DATE-TIME:20170728T000000Z
URL:https://www.santsadurni.cat/document.php?id=9616
END:VEVENT
END:VCALENDAR